BEGIN:VCALENDAR
VERSION:2.0
PRODID:-//http://localhost/content/uoa-campaigns/en/Events ICS//EN
CALSCALE:GREGORIAN
X-WR-TIMEZONE:Pacific/Auckland
METHOD:PUBLISH
BEGIN:VEVENT
DESCRIPTION;CHARSET=UTF-8:In the first of our 50th Anniversary FMHS Lecture Series\, proudly presente
 d with our partner Auckland Medical Research Foundation (AMRF)\, our speake
 rs will outline the historic milestones that contributed to the establishme
 nt of the Medical School and its evolution into the Faculty of Medical and 
 Health Sciences\, today regarded as one of the most prestigious academic gr
 oupings in the country.
SUMMARY;CHARSET=UTF-8:Public Lecture: 50 Years of Training the Health Workforce in Auckland
STATUS:confirmed
LOCATION:n/a
ORGANISER:
UID:http://localhost/content/uoa-campaigns/en/fmhs/aaha/en/news-and-events/events/2018/april/50-years-of-training.html
DTSTART:20180419T190000
DTEND:20180419T203000
CREATED:20180405T090400
LAST-MODIFIED:20180405T090600
CATEGORIES;CHARSET=UTF-8:
END:VEVENT
END:VCALENDAR