BEGIN:VCALENDAR
VERSION:2.0
PRODID:-//http://localhost/content/uoa-campaigns/en/Events ICS//EN
CALSCALE:GREGORIAN
X-WR-TIMEZONE:Pacific/Auckland
METHOD:PUBLISH
BEGIN:VEVENT
DESCRIPTION;CHARSET=UTF-8:Join us for the Auckland Cancer Society Research Centre - Meet the medical 
 oncologist series with Dr Ben Lawrence. Friday 27 April from 2-3pm.
SUMMARY;CHARSET=UTF-8:Special seminar: Not work to NETwork - Dr Ben Lawrence
STATUS:confirmed
LOCATION:CBR Seminar room 501-505
ORGANISER:
UID:http://localhost/content/uoa-campaigns/en/fmhs/aaha/en/news-and-events/events/2018/april/special-seminar--not-work-to-network---dr-ben-lawrence.html
DTSTART:20180427T140000
DTEND:20180427T150000
CREATED:20180423T161900
LAST-MODIFIED:20180423T162100
CATEGORIES;CHARSET=UTF-8:
END:VEVENT
END:VCALENDAR