BEGIN:VCALENDAR
VERSION:2.0
PRODID:-//http://localhost/content/uoa-campaigns/en/Events ICS//EN
CALSCALE:GREGORIAN
X-WR-TIMEZONE:Pacific/Auckland
METHOD:PUBLISH
BEGIN:VEVENT
DESCRIPTION;CHARSET=UTF-8:Dr Matava's presentation will showcase real examples of using virtual reali
 ty\, augmented reality and mixed reality in the areas of patient education\
 , staff education and clinical care.
SUMMARY;CHARSET=UTF-8:Why every hospital should consider virtual reality – lessons and evidence f
 rom early adopters
STATUS:confirmed
LOCATION:n/a
ORGANISER:
UID:http://localhost/content/uoa-campaigns/en/fmhs/aaha/en/news-and-events/events/2018/april/virtual-reality-lecture.html
DTSTART:20180423T130000
DTEND:20180423T140000
CREATED:20180405T090100
LAST-MODIFIED:20180405T090200
CATEGORIES;CHARSET=UTF-8:
END:VEVENT
END:VCALENDAR