BEGIN:VCALENDAR
VERSION:2.0
PRODID:-//http://localhost/content/uoa-campaigns/en/Events ICS//EN
CALSCALE:GREGORIAN
X-WR-TIMEZONE:Pacific/Auckland
METHOD:PUBLISH
BEGIN:VEVENT
DESCRIPTION;CHARSET=UTF-8:ADHB wants you to solve it for live organ donors! Take part in this year’s 
 Solve It challenge to create solutions to pressing issues faced by Auckland
  District Health Board\, Hynds and Auckland Transport.
SUMMARY;CHARSET=UTF-8:Solve It Challenge 2018
STATUS:confirmed
LOCATION:n/a
ORGANISER:
UID:http://localhost/content/uoa-campaigns/en/fmhs/aaha/en/news-and-events/events/2018/aug/solve-it-challenge.html
DTSTART:20180827T000000
DTEND:20180907T010000
CREATED:20180806T125600
LAST-MODIFIED:20180806T125900
CATEGORIES;CHARSET=UTF-8:
END:VEVENT
END:VCALENDAR