BEGIN:VCALENDAR
VERSION:2.0
PRODID:-//http://localhost/content/uoa-campaigns/en/Events ICS//EN
CALSCALE:GREGORIAN
X-WR-TIMEZONE:Pacific/Auckland
METHOD:PUBLISH
BEGIN:VEVENT
DESCRIPTION;CHARSET=UTF-8:The Auckland Cancer Trials Centre would like to welcome University of Auckl
 and staff to visit our new clinic in a series of open days.
SUMMARY;CHARSET=UTF-8:Auckland Cancer Trials Centre Open Day sessions
STATUS:confirmed
LOCATION:Wards 62/64
ORGANISER:
UID:http://localhost/content/uoa-campaigns/en/fmhs/aaha/en/news-and-events/events/2018/feb/auckland-cancer-trials-centre-open-day-sessions.html
DTSTART:20180314T000000
DTEND:20180321T010000
CREATED:20180220T155800
LAST-MODIFIED:20180220T160000
CATEGORIES;CHARSET=UTF-8:
END:VEVENT
END:VCALENDAR