BEGIN:VCALENDAR
VERSION:2.0
PRODID:-//http://localhost/content/uoa-campaigns/en/Events ICS//EN
CALSCALE:GREGORIAN
X-WR-TIMEZONE:Pacific/Auckland
METHOD:PUBLISH
BEGIN:VEVENT
DESCRIPTION;CHARSET=UTF-8:Professor Nutt’s talk will cover the flaws in current drug control regulati
 ons\, in particular how they often lead to more harms than good
SUMMARY;CHARSET=UTF-8:Lecture: How an enlightened approach to drug policy could revolutionise med
 icine as well as reducing drug harms
STATUS:confirmed
LOCATION:School of Population Health\, Building 722\, Room 722-201
ORGANISER:
UID:http://localhost/content/uoa-campaigns/en/fmhs/aaha/en/news-and-events/events/2018/feb/lecture--how-an-enlightened-approach-to-drug-policy-could-revolu.html
DTSTART:20180226T180000
DTEND:20180226T190000
CREATED:20180125T141800
LAST-MODIFIED:20180125T142100
CATEGORIES;CHARSET=UTF-8:
END:VEVENT
END:VCALENDAR