BEGIN:VCALENDAR
VERSION:2.0
PRODID:-//http://localhost/content/uoa-campaigns/en/Events ICS//EN
CALSCALE:GREGORIAN
X-WR-TIMEZONE:Pacific/Auckland
METHOD:PUBLISH
BEGIN:VEVENT
DESCRIPTION;CHARSET=UTF-8:In his public lecture Professor Topol will discuss the implications of the 
 3 D’s (digitisation\, democratisation and deep learning) and what can be do
 ne to achieve implementation in the clinic.
SUMMARY;CHARSET=UTF-8:Public lecture by Professor Eric Topol
STATUS:confirmed
LOCATION:n/a
ORGANISER:
UID:http://localhost/content/uoa-campaigns/en/fmhs/aaha/en/news-and-events/events/2018/feb/public-lecture-by-professor-eric-topol.html
DTSTART:20180207T170000
DTEND:20180207T183000
CREATED:20180125T143200
LAST-MODIFIED:20180125T143300
CATEGORIES;CHARSET=UTF-8:
END:VEVENT
END:VCALENDAR