BEGIN:VCALENDAR
VERSION:2.0
PRODID:-//http://localhost/content/uoa-campaigns/en/Events ICS//EN
CALSCALE:GREGORIAN
X-WR-TIMEZONE:Pacific/Auckland
METHOD:PUBLISH
BEGIN:VEVENT
DESCRIPTION;CHARSET=UTF-8:In this upcoming lecture\, Professor Reingold will provide a wide-ranging d
 iscussion of his global experience in promoting immunisation and reducing o
 r combatting “vaccine hesitancy”.
SUMMARY;CHARSET=UTF-8:Public lecture by visiting Hood Fellow Professor Arthur Reingold
STATUS:confirmed
LOCATION:n/a
ORGANISER:
UID:http://localhost/content/uoa-campaigns/en/fmhs/aaha/en/news-and-events/events/2018/feb/public-lecture-by-visiting-hood-fellow-professor-arthur-reingold.html
DTSTART:20180214T163000
DTEND:20180214T183000
CREATED:20180125T142900
LAST-MODIFIED:20180125T143000
CATEGORIES;CHARSET=UTF-8:
END:VEVENT
END:VCALENDAR