BEGIN:VCALENDAR
VERSION:2.0
PRODID:-//http://localhost/content/uoa-campaigns/en/Events ICS//EN
CALSCALE:GREGORIAN
X-WR-TIMEZONE:Pacific/Auckland
METHOD:PUBLISH
BEGIN:VEVENT
DESCRIPTION;CHARSET=UTF-8:If you are a falls researcher or clinician\, you may be interested in our u
 pcoming one-day seminar.
SUMMARY;CHARSET=UTF-8:Reducing Falls Risk in Older People:
STATUS:confirmed
LOCATION:n/a
ORGANISER:
UID:http://localhost/content/uoa-campaigns/en/fmhs/aaha/en/news-and-events/events/2018/feb/reducing-falls-risk-in-older-people--one-day-seminar.html
DTSTART:20180222T093000
DTEND:20180222T161500
CREATED:20180125T142700
LAST-MODIFIED:20180125T142800
CATEGORIES;CHARSET=UTF-8:
END:VEVENT
END:VCALENDAR