BEGIN:VCALENDAR
VERSION:2.0
PRODID:-//http://localhost/content/uoa-campaigns/en/Events ICS//EN
CALSCALE:GREGORIAN
X-WR-TIMEZONE:Pacific/Auckland
METHOD:PUBLISH
BEGIN:VEVENT
DESCRIPTION;CHARSET=UTF-8:This mini-symposium takes a closer look at ‘Research diversity – from labor
 atory research to policy research’ with the Centre members discussing curre
 nt research projects and future initiatives that strengthen the understandi
 ng\, prevention and treatment of addictive consumptions in New Zealand.
SUMMARY;CHARSET=UTF-8:The Centre for Addiction Research Mini Symposium
STATUS:confirmed
LOCATION:n/a
ORGANISER:
UID:http://localhost/content/uoa-campaigns/en/fmhs/aaha/en/news-and-events/events/2018/feb/the-centre-for-addiction-research-mini-symposium.html
DTSTART:20180226T140000
DTEND:20180226T173000
CREATED:20180125T142300
LAST-MODIFIED:20180125T142500
CATEGORIES;CHARSET=UTF-8:
END:VEVENT
END:VCALENDAR