BEGIN:VCALENDAR
VERSION:2.0
PRODID:-//http://localhost/content/uoa-campaigns/en/Events ICS//EN
CALSCALE:GREGORIAN
X-WR-TIMEZONE:Pacific/Auckland
METHOD:PUBLISH
BEGIN:VEVENT
DESCRIPTION;CHARSET=UTF-8:Join us for this informative public lecture tiltled 'Family Murder: Patholo
 gies of Love and Hate.
SUMMARY;CHARSET=UTF-8:'Family Murder: Pathologies of Love and Hate' by Associate Professor Susan 
 Hatters-Friedman
STATUS:confirmed
LOCATION:n/a
ORGANISER:
UID:http://localhost/content/uoa-campaigns/en/fmhs/aaha/en/news-and-events/events/2018/july/https---www-fmhs-auckland-ac-nz-en-faculty-about-news-and-events.html
DTSTART:20180813T170000
DTEND:20180813T190000
CREATED:20180726T150500
LAST-MODIFIED:20180726T150600
CATEGORIES;CHARSET=UTF-8:
END:VEVENT
END:VCALENDAR