BEGIN:VCALENDAR
VERSION:2.0
PRODID:-//http://localhost/content/uoa-campaigns/en/Events ICS//EN
CALSCALE:GREGORIAN
X-WR-TIMEZONE:Pacific/Auckland
METHOD:PUBLISH
BEGIN:VEVENT
DESCRIPTION;CHARSET=UTF-8:Genomics in Health and Disease: Known knowns\, Known unknowns\, Unknown unk
 nowns by Professor Stefan Bohlander
SUMMARY;CHARSET=UTF-8:Special seminar - Genomics in Health and Disease
STATUS:confirmed
LOCATION:n/a
ORGANISER:
UID:http://localhost/content/uoa-campaigns/en/fmhs/aaha/en/news-and-events/events/2018/july/special-seminar---genomics-in-health-and-disease.html
DTSTART:20180803T140000
DTEND:20180803T150000
CREATED:20180726T150200
LAST-MODIFIED:20180726T150300
CATEGORIES;CHARSET=UTF-8:
END:VEVENT
END:VCALENDAR