BEGIN:VCALENDAR
VERSION:2.0
PRODID:-//http://localhost/content/uoa-campaigns/en/Events ICS//EN
CALSCALE:GREGORIAN
X-WR-TIMEZONE:Pacific/Auckland
METHOD:PUBLISH
BEGIN:VEVENT
DESCRIPTION;CHARSET=UTF-8:Cancer treatment continually improves as new drugs seek to exploit consiste
 nt differences between cancer cells and normal cells\, a process greatly ai
 ded by our increasing understanding of patient and cancer genetics\, and of
  the complex interactions between cancers and the body’s immune system.
SUMMARY;CHARSET=UTF-8:Improved Cancer Treatment: A Scientific-Medical-Patient Collaboration
STATUS:confirmed
LOCATION:AMRF Lecture Theatre 505-011
ORGANISER:
UID:http://localhost/content/uoa-campaigns/en/fmhs/aaha/en/news-and-events/events/2018/june/improved-cancer-treatment.html
DTSTART:20180613T190000
DTEND:20180613T203000
CREATED:20180514T150800
LAST-MODIFIED:20180514T150900
CATEGORIES;CHARSET=UTF-8:
END:VEVENT
END:VCALENDAR