BEGIN:VCALENDAR
VERSION:2.0
PRODID:-//http://localhost/content/uoa-campaigns/en/Events ICS//EN
CALSCALE:GREGORIAN
X-WR-TIMEZONE:Pacific/Auckland
METHOD:PUBLISH
BEGIN:VEVENT
DESCRIPTION;CHARSET=UTF-8:What better way to celebrate our 50th anniversary than to share it with eve
 ryone who has helped or been helped by us in some way over the last half ce
 ntury? Whether you’re a past or present student\, a health professional or 
 a member of the public\, come and celebrate with us.
SUMMARY;CHARSET=UTF-8:Grafton Campus 50th Anniversary Family Open Day
STATUS:confirmed
LOCATION:Grafton Campus
ORGANISER:
UID:http://localhost/content/uoa-campaigns/en/fmhs/aaha/en/news-and-events/events/2018/march/open-day.html
DTSTART:20180317T093000
DTEND:20180317T160000
CREATED:20180207T141800
LAST-MODIFIED:20180207T142000
CATEGORIES;CHARSET=UTF-8:
END:VEVENT
END:VCALENDAR