BEGIN:VCALENDAR
VERSION:2.0
PRODID:-//http://localhost/content/uoa-campaigns/en/Events ICS//EN
CALSCALE:GREGORIAN
X-WR-TIMEZONE:Pacific/Auckland
METHOD:PUBLISH
BEGIN:VEVENT
DESCRIPTION;CHARSET=UTF-8:This interactive 2-day short course is designed for everyday clinical educa
 tors working across a variety of disciplines.
SUMMARY;CHARSET=UTF-8:Teaching and Learning in the Clinical Setting: Two-day Short Course
STATUS:confirmed
LOCATION:902-402
ORGANISER:
UID:http://localhost/content/uoa-campaigns/en/fmhs/aaha/en/news-and-events/events/2018/march/teaching-and-learning-in-the-clinical-setting--two-day-short-cou.html
DTSTART:20180305T000000
DTEND:20180306T010000
CREATED:20180126T131800
LAST-MODIFIED:20180126T132100
CATEGORIES;CHARSET=UTF-8:
END:VEVENT
END:VCALENDAR