BEGIN:VCALENDAR
VERSION:2.0
PRODID:-//http://localhost/content/uoa-campaigns/en/Events ICS//EN
CALSCALE:GREGORIAN
X-WR-TIMEZONE:Pacific/Auckland
METHOD:PUBLISH
BEGIN:VEVENT
DESCRIPTION;CHARSET=UTF-8:Three of New Zealand’s pre-eminent experts in heart attacks and strokes wil
 l describe how these diseases develop and how they contribute to ill-health
 .
SUMMARY;CHARSET=UTF-8:Heart Attacks and Stroke: Getting the Blood Flowing Again
STATUS:confirmed
LOCATION:n/a
ORGANISER:
UID:http://localhost/content/uoa-campaigns/en/fmhs/aaha/en/news-and-events/events/2018/may/heart-attacks-and-stroke.html
DTSTART:20180515T190000
DTEND:20180515T200000
CREATED:20180405T090700
LAST-MODIFIED:20180405T090900
CATEGORIES;CHARSET=UTF-8:
END:VEVENT
END:VCALENDAR