BEGIN:VCALENDAR
VERSION:2.0
PRODID:-//http://localhost/content/uoa-campaigns/en/Events ICS//EN
CALSCALE:GREGORIAN
X-WR-TIMEZONE:Pacific/Auckland
METHOD:PUBLISH
BEGIN:VEVENT
DESCRIPTION;CHARSET=UTF-8:Dr Jackie Robinson will present preliminary findings from VOICES. The study
  explored the quality of care people experienced in the last three months o
 f life.
SUMMARY;CHARSET=UTF-8:How are we doing with end of life care? Dr Jackie Robinson
STATUS:confirmed
LOCATION:n/a
ORGANISER:
UID:http://localhost/content/uoa-campaigns/en/fmhs/aaha/en/news-and-events/events/2018/sept/how-are-we-doing-with-end-of-life-care--dr-jackie-robinson.html
DTSTART:20180905T153000
DTEND:20180905T163000
CREATED:20180809T141100
LAST-MODIFIED:20180809T141200
CATEGORIES;CHARSET=UTF-8:
END:VEVENT
END:VCALENDAR